BEGIN:VCALENDAR
VERSION:2.0
PRODID:gruene-lengerich.de
METHOD:PUBLISH
BEGIN:VTIMEZONE
TZID:Europe/Berlin
X-LIC-LOCATION:Europe/Berlin
BEGIN:DAYLIGHT
TZOFFSETFROM:+0100
TZOFFSETTO:+0200
TZNAME:CEST
DTSTART:19700329T020000
RRULE:FREQ=YEARLY;INTERVAL=1;BYDAY=-1SU;BYMONTH=3
END:DAYLIGHT
BEGIN:STANDARD
TZOFFSETFROM:+0200
TZOFFSETTO:+0100
TZNAME:CET
DTSTART:19701025T030000
RRULE:FREQ=YEARLY;INTERVAL=1;BYDAY=-1SU;BYMONTH=10
END:STANDARD
END:VTIMEZONE
BEGIN:VEVENT
UID:d0c1442994e2baa93aae41627628fd99@gruene-lengerich.de
URL;VALUE=URI:https://gruene-lengerich.de/termine/ov-fraktionssitzung-27/
LOCATION:BÜNDNIS 90/DIE GRÜNEN, Münsterstr. 25, Lengerich
SUMMARY:OV-/Frak­tions­sit­zung
DESCRIPTION;ALTREP="data:text/html,%0A%3Cp%20class%3D%22has-black-color%2
 0has-text-color%20has-link-color%20wp-elements-3b90f05954fa40e65f09393585
 b35b83%22%3EG%C3%A4ste%20sind%20jederzeit%20mit%20oder%20ohne%20Voranmeld
 ung%20willkommen.%20Wenn%20Sie%20sich%20f%C3%BCr%20nachhaltige%2C%20%C3%B
 6kologische%20und%20soziale%20Politik%20interessieren%2C%20dann%20kommen%
 20Sie%20doch%20ganz%20unverbindlich%20zu%20unserem%20Treffen.%20Sie%20m%C
 3%BCssen%20kein%20Mitglied%20bei%20den%20Gr%C3%BCnen%20sein%2C%20um%20sic
 h%20einzubringen.%20Wir%20freuen%20uns%20%C3%BCber%20Interessierte%20und%
 20%C3%BCber%20neue%20Ideen%20und%20Anregungen%21%3C%2Fp%3E%0A%0A%0A%0A%3C
 p%3E%3C%2Fp%3E%0A":Gäste sind jederzeit mit oder ohne Voranmeldung willk
 ommen. Wenn Sie sich für nachhaltige\, ökologische und soziale Politik 
 interessieren\, dann kommen Sie doch ganz unverbindlich zu unserem Treffe
 n. Sie müssen kein Mitglied bei den Grünen sein\, um sich einzubringen.
  Wir freuen uns über Interessierte und über neue Ideen und Anregungen!
CLASS:PUBLIC
DTSTART;TZID=Europe/Berlin:20260504T190000
DTEND;TZID=Europe/Berlin:20260504T200000
DTSTAMP:20260422T214407
END:VEVENT
BEGIN:VEVENT
UID:ac679661ef441983a5d1ccab9d7f3175@gruene-lengerich.de
URL;VALUE=URI:https://gruene-lengerich.de/termine/ov-fraktionssitzung-28/
LOCATION:BÜNDNIS 90/DIE GRÜNEN, Münsterstr. 25, Lengerich
SUMMARY:OV-/Frak­tions­sit­zung
DESCRIPTION;ALTREP="data:text/html,%0A%3Cp%20class%3D%22has-black-color%2
 0has-text-color%20has-link-color%20wp-elements-3b90f05954fa40e65f09393585
 b35b83%22%3EG%C3%A4ste%20sind%20jederzeit%20mit%20oder%20ohne%20Voranmeld
 ung%20willkommen.%20Wenn%20Sie%20sich%20f%C3%BCr%20nachhaltige%2C%20%C3%B
 6kologische%20und%20soziale%20Politik%20interessieren%2C%20dann%20kommen%
 20Sie%20doch%20ganz%20unverbindlich%20zu%20unserem%20Treffen.%20Sie%20m%C
 3%BCssen%20kein%20Mitglied%20bei%20den%20Gr%C3%BCnen%20sein%2C%20um%20sic
 h%20einzubringen.%20Wir%20freuen%20uns%20%C3%BCber%20Interessierte%20und%
 20%C3%BCber%20neue%20Ideen%20und%20Anregungen%21%3C%2Fp%3E%0A%0A%0A%0A%3C
 p%3E%3C%2Fp%3E%0A":Gäste sind jederzeit mit oder ohne Voranmeldung willk
 ommen. Wenn Sie sich für nachhaltige\, ökologische und soziale Politik 
 interessieren\, dann kommen Sie doch ganz unverbindlich zu unserem Treffe
 n. Sie müssen kein Mitglied bei den Grünen sein\, um sich einzubringen.
  Wir freuen uns über Interessierte und über neue Ideen und Anregungen!
CLASS:PUBLIC
DTSTART;TZID=Europe/Berlin:20260518T190000
DTEND;TZID=Europe/Berlin:20260518T200000
DTSTAMP:20260422T214407
END:VEVENT
BEGIN:VEVENT
UID:68ecf4a2ce17e7944d67c00bbfd323e8@gruene-lengerich.de
URL;VALUE=URI:https://gruene-lengerich.de/termine/halbtagesseminar/
LOCATION:Akademie Talaue, Brochterbeckerstr. 60, Lengerich
SUMMARY:Halbtagesseminar
DESCRIPTION;ALTREP="data:text/html,%0A%3Cp%3EAuf%20diesem%20Seminar%20era
 rbeiten%20wir%20Themen%20f%C3%BCr%20das%20laufende%20Jahr.%3Cbr%3E%3Cbr%3
 E%3Cbr%3E%3C%2Fp%3E%0A":Auf diesem Seminar erarbeiten wir Themen für das
  laufende Jahr.
CLASS:PUBLIC
DTSTART;TZID=Europe/Berlin:20260530T100000
DTEND;TZID=Europe/Berlin:20260530T110000
DTSTAMP:20260422T214407
END:VEVENT
BEGIN:VEVENT
UID:b678e539d7ce9264e6b9ccae47ca27e3@gruene-lengerich.de
URL;VALUE=URI:https://gruene-lengerich.de/termine/ov-fraktionssitzung-29/
LOCATION:BÜNDNIS 90/DIE GRÜNEN, Münsterstr. 25, Lengerich
SUMMARY:OV-/Frak­tions­sit­zung
DESCRIPTION;ALTREP="data:text/html,%0A%3Cp%20class%3D%22has-black-color%2
 0has-text-color%20has-link-color%20wp-elements-3b90f05954fa40e65f09393585
 b35b83%22%3EG%C3%A4ste%20sind%20jederzeit%20mit%20oder%20ohne%20Voranmeld
 ung%20willkommen.%20Wenn%20Sie%20sich%20f%C3%BCr%20nachhaltige%2C%20%C3%B
 6kologische%20und%20soziale%20Politik%20interessieren%2C%20dann%20kommen%
 20Sie%20doch%20ganz%20unverbindlich%20zu%20unserem%20Treffen.%20Sie%20m%C
 3%BCssen%20kein%20Mitglied%20bei%20den%20Gr%C3%BCnen%20sein%2C%20um%20sic
 h%20einzubringen.%20Wir%20freuen%20uns%20%C3%BCber%20Interessierte%20und%
 20%C3%BCber%20neue%20Ideen%20und%20Anregungen%21%3C%2Fp%3E%0A%0A%0A%0A%3C
 p%3E%3C%2Fp%3E%0A":Gäste sind jederzeit mit oder ohne Voranmeldung willk
 ommen. Wenn Sie sich für nachhaltige\, ökologische und soziale Politik 
 interessieren\, dann kommen Sie doch ganz unverbindlich zu unserem Treffe
 n. Sie müssen kein Mitglied bei den Grünen sein\, um sich einzubringen.
  Wir freuen uns über Interessierte und über neue Ideen und Anregungen!
CLASS:PUBLIC
DTSTART;TZID=Europe/Berlin:20260615T190000
DTEND;TZID=Europe/Berlin:20260615T200000
DTSTAMP:20260422T214407
END:VEVENT
BEGIN:VEVENT
UID:7ae2777f4f7d475ff1249aa593d02389@gruene-lengerich.de
URL;VALUE=URI:https://gruene-lengerich.de/termine/ov-fraktionssitzung-30/
LOCATION:BÜNDNIS 90/DIE GRÜNEN, Münsterstr. 25, Lengerich
SUMMARY:OV-/Frak­tions­sit­zung
DESCRIPTION;ALTREP="data:text/html,%0A%3Cp%20class%3D%22has-black-color%2
 0has-text-color%20has-link-color%20wp-elements-3b90f05954fa40e65f09393585
 b35b83%22%3EG%C3%A4ste%20sind%20jederzeit%20mit%20oder%20ohne%20Voranmeld
 ung%20willkommen.%20Wenn%20Sie%20sich%20f%C3%BCr%20nachhaltige%2C%20%C3%B
 6kologische%20und%20soziale%20Politik%20interessieren%2C%20dann%20kommen%
 20Sie%20doch%20ganz%20unverbindlich%20zu%20unserem%20Treffen.%20Sie%20m%C
 3%BCssen%20kein%20Mitglied%20bei%20den%20Gr%C3%BCnen%20sein%2C%20um%20sic
 h%20einzubringen.%20Wir%20freuen%20uns%20%C3%BCber%20Interessierte%20und%
 20%C3%BCber%20neue%20Ideen%20und%20Anregungen%21%3C%2Fp%3E%0A%0A%0A%0A%3C
 p%3E%3C%2Fp%3E%0A":Gäste sind jederzeit mit oder ohne Voranmeldung willk
 ommen. Wenn Sie sich für nachhaltige\, ökologische und soziale Politik 
 interessieren\, dann kommen Sie doch ganz unverbindlich zu unserem Treffe
 n. Sie müssen kein Mitglied bei den Grünen sein\, um sich einzubringen.
  Wir freuen uns über Interessierte und über neue Ideen und Anregungen!
CLASS:PUBLIC
DTSTART;TZID=Europe/Berlin:20260629T190000
DTEND;TZID=Europe/Berlin:20260629T200000
DTSTAMP:20260422T214407
END:VEVENT
BEGIN:VEVENT
UID:49d36535f83e3baa75658f606c55e0c0@gruene-lengerich.de
URL;VALUE=URI:https://gruene-lengerich.de/termine/ov-fraktionssitzung-31/
LOCATION:BÜNDNIS 90/DIE GRÜNEN, Münsterstr. 25, Lengerich
SUMMARY:OV-/Frak­tions­sit­zung
DESCRIPTION;ALTREP="data:text/html,%0A%3Cp%20class%3D%22has-black-color%2
 0has-text-color%20has-link-color%20wp-elements-3b90f05954fa40e65f09393585
 b35b83%22%3EG%C3%A4ste%20sind%20jederzeit%20mit%20oder%20ohne%20Voranmeld
 ung%20willkommen.%20Wenn%20Sie%20sich%20f%C3%BCr%20nachhaltige%2C%20%C3%B
 6kologische%20und%20soziale%20Politik%20interessieren%2C%20dann%20kommen%
 20Sie%20doch%20ganz%20unverbindlich%20zu%20unserem%20Treffen.%20Sie%20m%C
 3%BCssen%20kein%20Mitglied%20bei%20den%20Gr%C3%BCnen%20sein%2C%20um%20sic
 h%20einzubringen.%20Wir%20freuen%20uns%20%C3%BCber%20Interessierte%20und%
 20%C3%BCber%20neue%20Ideen%20und%20Anregungen%21%3C%2Fp%3E%0A%0A%0A%0A%3C
 p%3E%3C%2Fp%3E%0A":Gäste sind jederzeit mit oder ohne Voranmeldung willk
 ommen. Wenn Sie sich für nachhaltige\, ökologische und soziale Politik 
 interessieren\, dann kommen Sie doch ganz unverbindlich zu unserem Treffe
 n. Sie müssen kein Mitglied bei den Grünen sein\, um sich einzubringen.
  Wir freuen uns über Interessierte und über neue Ideen und Anregungen!
CLASS:PUBLIC
DTSTART;TZID=Europe/Berlin:20260707T190000
DTEND;TZID=Europe/Berlin:20260707T200000
DTSTAMP:20260422T214407
END:VEVENT
BEGIN:VEVENT
UID:ed89f84443c4e6d87d290d3ad3e9a525@gruene-lengerich.de
URL;VALUE=URI:https://gruene-lengerich.de/termine/ov-fraktionssitzung-32/
LOCATION:BÜNDNIS 90/DIE GRÜNEN, Münsterstr. 25, Lengerich
SUMMARY:OV-/Frak­tions­sit­zung
DESCRIPTION;ALTREP="data:text/html,%0A%3Cp%20class%3D%22has-black-color%2
 0has-text-color%20has-link-color%20wp-elements-3b90f05954fa40e65f09393585
 b35b83%22%3EG%C3%A4ste%20sind%20jederzeit%20mit%20oder%20ohne%20Voranmeld
 ung%20willkommen.%20Wenn%20Sie%20sich%20f%C3%BCr%20nachhaltige%2C%20%C3%B
 6kologische%20und%20soziale%20Politik%20interessieren%2C%20dann%20kommen%
 20Sie%20doch%20ganz%20unverbindlich%20zu%20unserem%20Treffen.%20Sie%20m%C
 3%BCssen%20kein%20Mitglied%20bei%20den%20Gr%C3%BCnen%20sein%2C%20um%20sic
 h%20einzubringen.%20Wir%20freuen%20uns%20%C3%BCber%20Interessierte%20und%
 20%C3%BCber%20neue%20Ideen%20und%20Anregungen%21%3C%2Fp%3E%0A%0A%0A%0A%3C
 p%3E%3C%2Fp%3E%0A":Gäste sind jederzeit mit oder ohne Voranmeldung willk
 ommen. Wenn Sie sich für nachhaltige\, ökologische und soziale Politik 
 interessieren\, dann kommen Sie doch ganz unverbindlich zu unserem Treffe
 n. Sie müssen kein Mitglied bei den Grünen sein\, um sich einzubringen.
  Wir freuen uns über Interessierte und über neue Ideen und Anregungen!
CLASS:PUBLIC
DTSTART;TZID=Europe/Berlin:20260907T190000
DTEND;TZID=Europe/Berlin:20260907T200000
DTSTAMP:20260422T214407
END:VEVENT
BEGIN:VEVENT
UID:29838efcd0ce7bebd412343da4fb8f91@gruene-lengerich.de
URL;VALUE=URI:https://gruene-lengerich.de/termine/ov-fraktionssitzung-33/
LOCATION:BÜNDNIS 90/DIE GRÜNEN, Münsterstr. 25, Lengerich
SUMMARY:OV-/Frak­tions­sit­zung
DESCRIPTION;ALTREP="data:text/html,%0A%3Cp%20class%3D%22has-black-color%2
 0has-text-color%20has-link-color%20wp-elements-3b90f05954fa40e65f09393585
 b35b83%22%3EG%C3%A4ste%20sind%20jederzeit%20mit%20oder%20ohne%20Voranmeld
 ung%20willkommen.%20Wenn%20Sie%20sich%20f%C3%BCr%20nachhaltige%2C%20%C3%B
 6kologische%20und%20soziale%20Politik%20interessieren%2C%20dann%20kommen%
 20Sie%20doch%20ganz%20unverbindlich%20zu%20unserem%20Treffen.%20Sie%20m%C
 3%BCssen%20kein%20Mitglied%20bei%20den%20Gr%C3%BCnen%20sein%2C%20um%20sic
 h%20einzubringen.%20Wir%20freuen%20uns%20%C3%BCber%20Interessierte%20und%
 20%C3%BCber%20neue%20Ideen%20und%20Anregungen%21%3C%2Fp%3E%0A%0A%0A%0A%3C
 p%3E%3C%2Fp%3E%0A":Gäste sind jederzeit mit oder ohne Voranmeldung willk
 ommen. Wenn Sie sich für nachhaltige\, ökologische und soziale Politik 
 interessieren\, dann kommen Sie doch ganz unverbindlich zu unserem Treffe
 n. Sie müssen kein Mitglied bei den Grünen sein\, um sich einzubringen.
  Wir freuen uns über Interessierte und über neue Ideen und Anregungen!
CLASS:PUBLIC
DTSTART;TZID=Europe/Berlin:20260921T190000
DTEND;TZID=Europe/Berlin:20260921T200000
DTSTAMP:20260422T214407
END:VEVENT
BEGIN:VEVENT
UID:26c362033b196cb2f78cb29735417fce@gruene-lengerich.de
URL;VALUE=URI:https://gruene-lengerich.de/termine/halbtagesseminar-2/
LOCATION:Akademie Talaue, Brochterbeckerstr. 60, Lengerich
SUMMARY:Halbtagesseminar
DESCRIPTION;ALTREP="data:text/html,%0A%3Cp%3EAuf%20diesem%20Seminar%20era
 rbeiten%20wir%20Themen%20f%C3%BCr%20das%20laufende%20Jahr.%3Cbr%3E%3Cbr%3
 E%3Cbr%3E%3C%2Fp%3E%0A":Auf diesem Seminar erarbeiten wir Themen für das
  laufende Jahr.
CLASS:PUBLIC
DTSTART;TZID=Europe/Berlin:20260926T100000
DTEND;TZID=Europe/Berlin:20260926T110000
DTSTAMP:20260422T214407
END:VEVENT
BEGIN:VEVENT
UID:8e1663fc24b95a29bc48d056da56a879@gruene-lengerich.de
URL;VALUE=URI:https://gruene-lengerich.de/termine/ov-fraktionssitzung-34/
LOCATION:BÜNDNIS 90/DIE GRÜNEN, Münsterstr. 25, Lengerich
SUMMARY:OV-/Frak­tions­sit­zung
DESCRIPTION;ALTREP="data:text/html,%0A%3Cp%20class%3D%22has-black-color%2
 0has-text-color%20has-link-color%20wp-elements-3b90f05954fa40e65f09393585
 b35b83%22%3EG%C3%A4ste%20sind%20jederzeit%20mit%20oder%20ohne%20Voranmeld
 ung%20willkommen.%20Wenn%20Sie%20sich%20f%C3%BCr%20nachhaltige%2C%20%C3%B
 6kologische%20und%20soziale%20Politik%20interessieren%2C%20dann%20kommen%
 20Sie%20doch%20ganz%20unverbindlich%20zu%20unserem%20Treffen.%20Sie%20m%C
 3%BCssen%20kein%20Mitglied%20bei%20den%20Gr%C3%BCnen%20sein%2C%20um%20sic
 h%20einzubringen.%20Wir%20freuen%20uns%20%C3%BCber%20Interessierte%20und%
 20%C3%BCber%20neue%20Ideen%20und%20Anregungen%21%3C%2Fp%3E%0A%0A%0A%0A%3C
 p%3E%3C%2Fp%3E%0A":Gäste sind jederzeit mit oder ohne Voranmeldung willk
 ommen. Wenn Sie sich für nachhaltige\, ökologische und soziale Politik 
 interessieren\, dann kommen Sie doch ganz unverbindlich zu unserem Treffe
 n. Sie müssen kein Mitglied bei den Grünen sein\, um sich einzubringen.
  Wir freuen uns über Interessierte und über neue Ideen und Anregungen!
CLASS:PUBLIC
DTSTART;TZID=Europe/Berlin:20261012T190000
DTEND;TZID=Europe/Berlin:20261012T200000
DTSTAMP:20260422T214407
END:VEVENT
BEGIN:VEVENT
UID:b869eba492a480a4dcfa97c34744d561@gruene-lengerich.de
URL;VALUE=URI:https://gruene-lengerich.de/termine/ov-fraktionssitzung-35/
LOCATION:BÜNDNIS 90/DIE GRÜNEN, Münsterstr. 25, Lengerich
SUMMARY:OV-/Frak­tions­sit­zung
DESCRIPTION;ALTREP="data:text/html,%0A%3Cp%20class%3D%22has-black-color%2
 0has-text-color%20has-link-color%20wp-elements-3b90f05954fa40e65f09393585
 b35b83%22%3EG%C3%A4ste%20sind%20jederzeit%20mit%20oder%20ohne%20Voranmeld
 ung%20willkommen.%20Wenn%20Sie%20sich%20f%C3%BCr%20nachhaltige%2C%20%C3%B
 6kologische%20und%20soziale%20Politik%20interessieren%2C%20dann%20kommen%
 20Sie%20doch%20ganz%20unverbindlich%20zu%20unserem%20Treffen.%20Sie%20m%C
 3%BCssen%20kein%20Mitglied%20bei%20den%20Gr%C3%BCnen%20sein%2C%20um%20sic
 h%20einzubringen.%20Wir%20freuen%20uns%20%C3%BCber%20Interessierte%20und%
 20%C3%BCber%20neue%20Ideen%20und%20Anregungen%21%3C%2Fp%3E%0A%0A%0A%0A%3C
 p%3E%3C%2Fp%3E%0A":Gäste sind jederzeit mit oder ohne Voranmeldung willk
 ommen. Wenn Sie sich für nachhaltige\, ökologische und soziale Politik 
 interessieren\, dann kommen Sie doch ganz unverbindlich zu unserem Treffe
 n. Sie müssen kein Mitglied bei den Grünen sein\, um sich einzubringen.
  Wir freuen uns über Interessierte und über neue Ideen und Anregungen!
CLASS:PUBLIC
DTSTART;TZID=Europe/Berlin:20261109T190000
DTEND;TZID=Europe/Berlin:20261109T200000
DTSTAMP:20260422T214407
END:VEVENT
BEGIN:VEVENT
UID:4af68e1d74c75c0714c7d26c40f7c9d6@gruene-lengerich.de
URL;VALUE=URI:https://gruene-lengerich.de/termine/ov-fraktionssitzung-36/
LOCATION:BÜNDNIS 90/DIE GRÜNEN, Münsterstr. 25, Lengerich
SUMMARY:OV-/Frak­tions­sit­zung
DESCRIPTION;ALTREP="data:text/html,%0A%3Cp%20class%3D%22has-black-color%2
 0has-text-color%20has-link-color%20wp-elements-3b90f05954fa40e65f09393585
 b35b83%22%3EG%C3%A4ste%20sind%20jederzeit%20mit%20oder%20ohne%20Voranmeld
 ung%20willkommen.%20Wenn%20Sie%20sich%20f%C3%BCr%20nachhaltige%2C%20%C3%B
 6kologische%20und%20soziale%20Politik%20interessieren%2C%20dann%20kommen%
 20Sie%20doch%20ganz%20unverbindlich%20zu%20unserem%20Treffen.%20Sie%20m%C
 3%BCssen%20kein%20Mitglied%20bei%20den%20Gr%C3%BCnen%20sein%2C%20um%20sic
 h%20einzubringen.%20Wir%20freuen%20uns%20%C3%BCber%20Interessierte%20und%
 20%C3%BCber%20neue%20Ideen%20und%20Anregungen%21%3C%2Fp%3E%0A%0A%0A%0A%3C
 p%3E%3C%2Fp%3E%0A":Gäste sind jederzeit mit oder ohne Voranmeldung willk
 ommen. Wenn Sie sich für nachhaltige\, ökologische und soziale Politik 
 interessieren\, dann kommen Sie doch ganz unverbindlich zu unserem Treffe
 n. Sie müssen kein Mitglied bei den Grünen sein\, um sich einzubringen.
  Wir freuen uns über Interessierte und über neue Ideen und Anregungen!
CLASS:PUBLIC
DTSTART;TZID=Europe/Berlin:20261123T190000
DTEND;TZID=Europe/Berlin:20261123T200000
DTSTAMP:20260422T214407
END:VEVENT
BEGIN:VEVENT
UID:a6409e50b5d747f119038cddbcd3876d@gruene-lengerich.de
URL;VALUE=URI:https://gruene-lengerich.de/termine/ov-fraktionssitzung-37/
LOCATION:BÜNDNIS 90/DIE GRÜNEN, Münsterstr. 25, Lengerich
SUMMARY:OV-/Frak­tions­sit­zung
DESCRIPTION;ALTREP="data:text/html,%0A%3Cp%20class%3D%22has-black-color%2
 0has-text-color%20has-link-color%20wp-elements-3b90f05954fa40e65f09393585
 b35b83%22%3EG%C3%A4ste%20sind%20jederzeit%20mit%20oder%20ohne%20Voranmeld
 ung%20willkommen.%20Wenn%20Sie%20sich%20f%C3%BCr%20nachhaltige%2C%20%C3%B
 6kologische%20und%20soziale%20Politik%20interessieren%2C%20dann%20kommen%
 20Sie%20doch%20ganz%20unverbindlich%20zu%20unserem%20Treffen.%20Sie%20m%C
 3%BCssen%20kein%20Mitglied%20bei%20den%20Gr%C3%BCnen%20sein%2C%20um%20sic
 h%20einzubringen.%20Wir%20freuen%20uns%20%C3%BCber%20Interessierte%20und%
 20%C3%BCber%20neue%20Ideen%20und%20Anregungen%21%3C%2Fp%3E%0A%0A%0A%0A%3C
 p%3E%3C%2Fp%3E%0A":Gäste sind jederzeit mit oder ohne Voranmeldung willk
 ommen. Wenn Sie sich für nachhaltige\, ökologische und soziale Politik 
 interessieren\, dann kommen Sie doch ganz unverbindlich zu unserem Treffe
 n. Sie müssen kein Mitglied bei den Grünen sein\, um sich einzubringen.
  Wir freuen uns über Interessierte und über neue Ideen und Anregungen!
CLASS:PUBLIC
DTSTART;TZID=Europe/Berlin:20261207T190000
DTEND;TZID=Europe/Berlin:20261207T200000
DTSTAMP:20260422T214407
END:VEVENT
BEGIN:VEVENT
UID:451784a839e22cd5eb961eca650dfc7e@gruene-lengerich.de
URL;VALUE=URI:https://gruene-lengerich.de/termine/ov-fraktionssitzung-38/
LOCATION:BÜNDNIS 90/DIE GRÜNEN, Münsterstr. 25, Lengerich
SUMMARY:OV-/Frak­tions­sit­zung
DESCRIPTION;ALTREP="data:text/html,%0A%3Cp%20class%3D%22has-black-color%2
 0has-text-color%20has-link-color%20wp-elements-3b90f05954fa40e65f09393585
 b35b83%22%3EG%C3%A4ste%20sind%20jederzeit%20mit%20oder%20ohne%20Voranmeld
 ung%20willkommen.%20Wenn%20Sie%20sich%20f%C3%BCr%20nachhaltige%2C%20%C3%B
 6kologische%20und%20soziale%20Politik%20interessieren%2C%20dann%20kommen%
 20Sie%20doch%20ganz%20unverbindlich%20zu%20unserem%20Treffen.%20Sie%20m%C
 3%BCssen%20kein%20Mitglied%20bei%20den%20Gr%C3%BCnen%20sein%2C%20um%20sic
 h%20einzubringen.%20Wir%20freuen%20uns%20%C3%BCber%20Interessierte%20und%
 20%C3%BCber%20neue%20Ideen%20und%20Anregungen%21%3C%2Fp%3E%0A%0A%0A%0A%3C
 p%3E%3C%2Fp%3E%0A":Gäste sind jederzeit mit oder ohne Voranmeldung willk
 ommen. Wenn Sie sich für nachhaltige\, ökologische und soziale Politik 
 interessieren\, dann kommen Sie doch ganz unverbindlich zu unserem Treffe
 n. Sie müssen kein Mitglied bei den Grünen sein\, um sich einzubringen.
  Wir freuen uns über Interessierte und über neue Ideen und Anregungen!
CLASS:PUBLIC
DTSTART;TZID=Europe/Berlin:20261214T190000
DTEND;TZID=Europe/Berlin:20261214T200000
DTSTAMP:20260422T214407
END:VEVENT
END:VCALENDAR